BEGIN:VCALENDAR
VERSION:2.0
PRODID:-//Turčianske kultúrne stredisko v Martine - ECPv4.9.13//NONSGML v1.0//EN
CALSCALE:GREGORIAN
METHOD:PUBLISH
X-WR-CALNAME:Turčianske kultúrne stredisko v Martine
X-ORIGINAL-URL:https://www.tks.sk
X-WR-CALDESC:Udalosti pre Turčianske kultúrne stredisko v Martine
BEGIN:VTIMEZONE
TZID:Europe/Bratislava
BEGIN:DAYLIGHT
TZOFFSETFROM:+0100
TZOFFSETTO:+0200
TZNAME:CEST
DTSTART:20200329T010000
END:DAYLIGHT
BEGIN:STANDARD
TZOFFSETFROM:+0200
TZOFFSETTO:+0100
TZNAME:CET
DTSTART:20201025T010000
END:STANDARD
END:VTIMEZONE
BEGIN:VEVENT
DTSTART;TZID=Europe/Bratislava:20200721T170000
DTEND;TZID=Europe/Bratislava:20200721T183000
DTSTAMP:20260421T071437
CREATED:20200702T093445Z
LAST-MODIFIED:20200702T093445Z
UID:2808-1595350800-1595356200@www.tks.sk
SUMMARY:„Beseda pod stromami“ s autorkou knihy Nespúšťaj oči z trate! Terezou Oľhovou
DESCRIPTION:Pozvánka na veselé rozprávanie s kreatívnou Terezou Oľhovou o tvorbe\, rodine\, príbehoch a samozrejme o autentických zážitkoch z maminho cestovania. \nPodujatie pripravované v spolupráci  s Turčianskou knižnicou. \nDiskusia pod stromami pri TKS\, v prípade dažďa klubové priestory Turčianskeho kultúrneho strediska v Martine \n\n    \n
URL:https://www.tks.sk/podujatie/beseda-pod-stromami-s-autorkou-knihy-nespustaj-oci-z-trate-terezou-olhovou/
LOCATION:Turčianske kultúrne stredisko\, Divadelná 656/3\, Martin\, 03601\, Slovenská republika
CATEGORIES:Umelecké slovo a ZPOZ
END:VEVENT
END:VCALENDAR