BEGIN:VCALENDAR
VERSION:2.0
PRODID:-//Turčianske kultúrne stredisko v Martine - ECPv4.9.13//NONSGML v1.0//EN
CALSCALE:GREGORIAN
METHOD:PUBLISH
X-WR-CALNAME:Turčianske kultúrne stredisko v Martine
X-ORIGINAL-URL:https://www.tks.sk
X-WR-CALDESC:Udalosti pre Turčianske kultúrne stredisko v Martine
BEGIN:VTIMEZONE
TZID:Europe/Bratislava
BEGIN:DAYLIGHT
TZOFFSETFROM:+0100
TZOFFSETTO:+0200
TZNAME:CEST
DTSTART:20200329T010000
END:DAYLIGHT
BEGIN:STANDARD
TZOFFSETFROM:+0200
TZOFFSETTO:+0100
TZNAME:CET
DTSTART:20201025T010000
END:STANDARD
END:VTIMEZONE
BEGIN:VEVENT
DTSTART;TZID=Europe/Bratislava:20200721T090000
DTEND;TZID=Europe/Bratislava:20200723T180000
DTSTAMP:20260421T054249
CREATED:20200701T090204Z
LAST-MODIFIED:20200701T101404Z
UID:2746-1595322000-1595527200@www.tks.sk
SUMMARY:"Dielňa pouličného divadla" KULTÚRNE KLBKO II.
DESCRIPTION:2. séria – tvorivá dielňa zameraná na pouličné divadlo „ŽIVÉ POZVÁNKY“\, ktorá zahŕňa prácu s telom\, akrobaciou\, balansom\, žonglovaním a iné… \n\n    \n
URL:https://www.tks.sk/podujatie/dielna-poulicneho-divadla-3/
CATEGORIES:Divadlo detí a dospelých
END:VEVENT
END:VCALENDAR