BEGIN:VCALENDAR
VERSION:2.0
PRODID:-//Turčianske kultúrne stredisko v Martine - ECPv4.9.13//NONSGML v1.0//EN
CALSCALE:GREGORIAN
METHOD:PUBLISH
X-WR-CALNAME:Turčianske kultúrne stredisko v Martine
X-ORIGINAL-URL:https://www.tks.sk
X-WR-CALDESC:Udalosti pre Turčianske kultúrne stredisko v Martine
BEGIN:VTIMEZONE
TZID:Europe/Bratislava
BEGIN:DAYLIGHT
TZOFFSETFROM:+0100
TZOFFSETTO:+0200
TZNAME:CEST
DTSTART:20240331T010000
END:DAYLIGHT
BEGIN:STANDARD
TZOFFSETFROM:+0200
TZOFFSETTO:+0100
TZNAME:CET
DTSTART:20241027T010000
END:STANDARD
END:VTIMEZONE
BEGIN:VEVENT
DTSTART;TZID=Europe/Bratislava:20241121T160000
DTEND;TZID=Europe/Bratislava:20241121T180000
DTSTAMP:20260421T135858
CREATED:20241118T070645Z
LAST-MODIFIED:20241118T070645Z
UID:14500-1732204800-1732212000@www.tks.sk
SUMMARY:Literárny klub
DESCRIPTION:\nTešíme sa na všetkých\, ktorí píšu a majú chuť predstaviť svoju literárnu tvorbu.\n\n\nStretneme sa vo štvrtok od 16:00 v klubovni v priestoroch Turčianskeho kultúrneho strediska v Martine.\n\n\n    \n
URL:https://www.tks.sk/podujatie/literarny-klub-4/
CATEGORIES:Kluby
ATTACH;FMTTYPE=image/jpeg:https://www.tks.sk/wp-content/uploads/2024/11/TKS_Web_banner_2024_LK-1.jpg
END:VEVENT
END:VCALENDAR