BEGIN:VCALENDAR
VERSION:2.0
PRODID:-//Turčianske kultúrne stredisko v Martine - ECPv4.9.13//NONSGML v1.0//EN
CALSCALE:GREGORIAN
METHOD:PUBLISH
X-WR-CALNAME:Turčianske kultúrne stredisko v Martine
X-ORIGINAL-URL:https://www.tks.sk
X-WR-CALDESC:Udalosti pre Turčianske kultúrne stredisko v Martine
BEGIN:VTIMEZONE
TZID:Europe/Bratislava
BEGIN:DAYLIGHT
TZOFFSETFROM:+0100
TZOFFSETTO:+0200
TZNAME:CEST
DTSTART:20230326T010000
END:DAYLIGHT
BEGIN:STANDARD
TZOFFSETFROM:+0200
TZOFFSETTO:+0100
TZNAME:CET
DTSTART:20231029T010000
END:STANDARD
END:VTIMEZONE
BEGIN:VEVENT
DTSTART;TZID=Europe/Bratislava:20230515T100000
DTEND;TZID=Europe/Bratislava:20230515T110000
DTSTAMP:20260420T002317
CREATED:20230426T125929Z
LAST-MODIFIED:20230426T125929Z
UID:10698-1684144800-1684148400@www.tks.sk
SUMMARY:MEDZI NAMI - Jana Čavojská
DESCRIPTION:\n    \n
URL:https://www.tks.sk/podujatie/medzi-nami-jana-cavojska/
ATTACH;FMTTYPE=image/jpeg:https://www.tks.sk/wp-content/uploads/2023/04/WEB-banner-TKS_Cavojska_medzi-nami.jpg
END:VEVENT
END:VCALENDAR