BEGIN:VCALENDAR
VERSION:2.0
PRODID:-//Turčianske kultúrne stredisko v Martine - ECPv4.9.13//NONSGML v1.0//EN
CALSCALE:GREGORIAN
METHOD:PUBLISH
X-WR-CALNAME:Turčianske kultúrne stredisko v Martine
X-ORIGINAL-URL:https://www.tks.sk
X-WR-CALDESC:Udalosti pre Turčianske kultúrne stredisko v Martine
BEGIN:VTIMEZONE
TZID:Europe/Bratislava
BEGIN:DAYLIGHT
TZOFFSETFROM:+0100
TZOFFSETTO:+0200
TZNAME:CEST
DTSTART:20230326T010000
END:DAYLIGHT
BEGIN:STANDARD
TZOFFSETFROM:+0200
TZOFFSETTO:+0100
TZNAME:CET
DTSTART:20231029T010000
END:STANDARD
END:VTIMEZONE
BEGIN:VEVENT
DTSTART;TZID=Europe/Bratislava:20230515T173000
DTEND;TZID=Europe/Bratislava:20230515T190000
DTSTAMP:20260420T021759
CREATED:20230426T131809Z
LAST-MODIFIED:20230426T132134Z
UID:10715-1684171800-1684177200@www.tks.sk
SUMMARY:MOSTY KULTÚR - Jana Čavojská
DESCRIPTION:\n    \n
URL:https://www.tks.sk/podujatie/mosty-kultur-jana-cavojska/
CATEGORIES:Vzdelávanie
ATTACH;FMTTYPE=image/jpeg:https://www.tks.sk/wp-content/uploads/2023/04/WEB-banner-TKS_CAVOJSKA.jpg
END:VEVENT
END:VCALENDAR